BEGIN:VCALENDAR
VERSION:2.0
PRODID:-//eventon.com NONSGML v1.0//EN
CALSCALE:GREGORIAN
METHOD:PUBLISH
BEGIN:VEVENT
UID:69ece8eb889cb
DTSTAMP:20260425T161643Z
DTSTART:20460915
DTEND:20460916
LOCATION:
SUMMARY:Refrather Schützenfest 
DESCRIPTION:\nhttps://wir-alle-sind-refrath.de/events/refrather-schuetzenfe
 st/var/ri-43.l-L1
URL:https://wir-alle-sind-refrath.de/events/refrather-schuetzenfest/var/ri-43.l-L1
END:VEVENT
END:VCALENDAR