BEGIN:VCALENDAR
VERSION:2.0
PRODID:-//eventon.com NONSGML v1.0//EN
CALSCALE:GREGORIAN
METHOD:PUBLISH
BEGIN:VEVENT
UID:69ecce253cb90
DTSTAMP:20260425T142229Z
DTSTART:20460916
DTEND:20460917
LOCATION:
SUMMARY:Refrather Schützenfest 
DESCRIPTION:\nhttps://wir-alle-sind-refrath.de/events/refrather-schuetzenfe
 st/var/ri-42.l-L1
URL:https://wir-alle-sind-refrath.de/events/refrather-schuetzenfest/var/ri-42.l-L1
END:VEVENT
END:VCALENDAR