BEGIN:VCALENDAR
VERSION:2.0
PRODID:-//eventon.com NONSGML v1.0//EN
CALSCALE:GREGORIAN
METHOD:PUBLISH
BEGIN:VEVENT
UID:69ebcc343fafb
DTSTAMP:20260424T200156Z
DTSTART:20410921
DTEND:20410922
LOCATION:
SUMMARY:Refrather Schützenfest 
DESCRIPTION:\nhttps://wir-alle-sind-refrath.de/events/refrather-schuetzenfe
 st/var/ri-33.l-L1
URL:https://wir-alle-sind-refrath.de/events/refrather-schuetzenfest/var/ri-33.l-L1
END:VEVENT
END:VCALENDAR