BEGIN:VCALENDAR
VERSION:2.0
PRODID:-//eventon.com NONSGML v1.0//EN
CALSCALE:GREGORIAN
METHOD:PUBLISH
BEGIN:VEVENT
UID:69e97ff33a837
DTSTAMP:20260423T021203Z
DTSTART:20340916
DTEND:20340917
LOCATION:
SUMMARY:Refrather Schützenfest 
DESCRIPTION:\nhttps://wir-alle-sind-refrath.de/events/refrather-schuetzenfe
 st/var/ri-19.l-L1
URL:https://wir-alle-sind-refrath.de/events/refrather-schuetzenfest/var/ri-19.l-L1
END:VEVENT
END:VCALENDAR