BEGIN:VCALENDAR
VERSION:2.0
PRODID:-//eventon.com NONSGML v1.0//EN
CALSCALE:GREGORIAN
METHOD:PUBLISH
BEGIN:VEVENT
UID:69e7804f16aa2
DTSTAMP:20260421T134903Z
DTSTART:20310920
DTEND:20310921
LOCATION:
SUMMARY:Refrather Schützenfest 
DESCRIPTION:\nhttps://wir-alle-sind-refrath.de/events/refrather-schuetzenfe
 st/var/ri-13.l-L1
URL:https://wir-alle-sind-refrath.de/events/refrather-schuetzenfest/var/ri-13.l-L1
END:VEVENT
END:VCALENDAR