BEGIN:VCALENDAR
VERSION:2.0
PRODID:-//eventon.com NONSGML v1.0//EN
CALSCALE:GREGORIAN
METHOD:PUBLISH
BEGIN:VEVENT
UID:69ece72e1d72c
DTSTAMP:20260425T160918Z
DTSTART:20390903T130000Z
DTEND:20390905T200000Z
LOCATION:
SUMMARY:Weinfest
DESCRIPTION:\nhttps://wir-alle-sind-refrath.de/events/das-weinfest-der-ig-r
 efrath/var/ri-41.l-L1
URL:https://wir-alle-sind-refrath.de/events/das-weinfest-der-ig-refrath/var/ri-41.l-L1
END:VEVENT
END:VCALENDAR