BEGIN:VCALENDAR
VERSION:2.0
PRODID:-//eventon.com NONSGML v1.0//EN
CALSCALE:GREGORIAN
METHOD:PUBLISH
BEGIN:VEVENT
UID:69eb11d8b649d
DTSTAMP:20260424T064648Z
DTSTART:20340903T130000Z
DTEND:20340905T200000Z
LOCATION:
SUMMARY:Weinfest
DESCRIPTION:\nhttps://wir-alle-sind-refrath.de/events/das-weinfest-der-ig-r
 efrath/var/ri-24.l-L1
URL:https://wir-alle-sind-refrath.de/events/das-weinfest-der-ig-refrath/var/ri-24.l-L1
END:VEVENT
END:VCALENDAR