BEGIN:VCALENDAR
VERSION:2.0
PRODID:-//eventon.com NONSGML v1.0//EN
CALSCALE:GREGORIAN
METHOD:PUBLISH
BEGIN:VEVENT
UID:69ea7650371d9
DTSTAMP:20260423T194312Z
DTSTART:20320904T130000Z
DTEND:20320906T200000Z
LOCATION:
SUMMARY:Weinfest
DESCRIPTION:\nhttps://wir-alle-sind-refrath.de/events/das-weinfest-der-ig-r
 efrath/var/ri-20.l-L1
URL:https://wir-alle-sind-refrath.de/events/das-weinfest-der-ig-refrath/var/ri-20.l-L1
END:VEVENT
END:VCALENDAR