BEGIN:VCALENDAR
VERSION:2.0
PRODID:-//eventon.com NONSGML v1.0//EN
CALSCALE:GREGORIAN
METHOD:PUBLISH
BEGIN:VEVENT
UID:69e9d5f53c854
DTSTAMP:20260423T081901Z
DTSTART:20320905T130000Z
DTEND:20320907T200000Z
LOCATION:
SUMMARY:Weinfest
DESCRIPTION:\nhttps://wir-alle-sind-refrath.de/events/das-weinfest-der-ig-r
 efrath/var/ri-18.l-L1
URL:https://wir-alle-sind-refrath.de/events/das-weinfest-der-ig-refrath/var/ri-18.l-L1
END:VEVENT
END:VCALENDAR