BEGIN:VCALENDAR
VERSION:2.0
PRODID:-//eventon.com NONSGML v1.0//EN
CALSCALE:GREGORIAN
METHOD:PUBLISH
BEGIN:VEVENT
UID:69e7db045a305
DTSTAMP:20260421T201604Z
DTSTART:20300901T130000Z
DTEND:20300903T200000Z
LOCATION:
SUMMARY:Weinfest
DESCRIPTION:\nhttps://wir-alle-sind-refrath.de/events/das-weinfest-der-ig-r
 efrath/var/ri-12.l-L1
URL:https://wir-alle-sind-refrath.de/events/das-weinfest-der-ig-refrath/var/ri-12.l-L1
END:VEVENT
END:VCALENDAR