BEGIN:VCALENDAR
VERSION:2.0
PRODID:-//eventon.com NONSGML v1.0//EN
CALSCALE:GREGORIAN
METHOD:PUBLISH
BEGIN:VEVENT
UID:69ece25412a4c
DTSTAMP:20260425T154836Z
DTSTART:20640111T170000Z
DTEND:20640111T225900Z
LOCATION:
SUMMARY:BHV-Neujahrstreffen
DESCRIPTION:\nhttps://wir-alle-sind-refrath.de/events/bhv-neujahrstreffen/v
 ar/ri-37.l-L1
URL:https://wir-alle-sind-refrath.de/events/bhv-neujahrstreffen/var/ri-37.l-L1
END:VEVENT
END:VCALENDAR