BEGIN:VCALENDAR
VERSION:2.0
PRODID:-//eventon.com NONSGML v1.0//EN
CALSCALE:GREGORIAN
METHOD:PUBLISH
BEGIN:VEVENT
UID:69e9e16879f02
DTSTAMP:20260423T090752Z
DTSTART:20430109T170000Z
DTEND:20430109T225900Z
LOCATION:
SUMMARY:BHV-Neujahrstreffen
DESCRIPTION:\nhttps://wir-alle-sind-refrath.de/events/bhv-neujahrstreffen/v
 ar/ri-16.l-L1
URL:https://wir-alle-sind-refrath.de/events/bhv-neujahrstreffen/var/ri-16.l-L1
END:VEVENT
END:VCALENDAR