BEGIN:VCALENDAR
VERSION:2.0
PRODID:-//eventon.com NONSGML v1.0//EN
CALSCALE:GREGORIAN
METHOD:PUBLISH
BEGIN:VEVENT
UID:69e993c3c9b90
DTSTAMP:20260423T033635Z
DTSTART:20420110T170000Z
DTEND:20420110T225900Z
LOCATION:
SUMMARY:BHV-Neujahrstreffen
DESCRIPTION:\nhttps://wir-alle-sind-refrath.de/events/bhv-neujahrstreffen/v
 ar/ri-15.l-L1
URL:https://wir-alle-sind-refrath.de/events/bhv-neujahrstreffen/var/ri-15.l-L1
END:VEVENT
END:VCALENDAR