BEGIN:VCALENDAR
VERSION:2.0
PRODID:-//eventon.com NONSGML v1.0//EN
CALSCALE:GREGORIAN
METHOD:PUBLISH
BEGIN:VEVENT
UID:69e894a6038ca
DTSTAMP:20260422T092806Z
DTSTART:20390114T170000Z
DTEND:20390114T225900Z
LOCATION:
SUMMARY:BHV-Neujahrstreffen
DESCRIPTION:\nhttps://wir-alle-sind-refrath.de/events/bhv-neujahrstreffen/v
 ar/ri-12.l-L1
URL:https://wir-alle-sind-refrath.de/events/bhv-neujahrstreffen/var/ri-12.l-L1
END:VEVENT
END:VCALENDAR