BEGIN:VCALENDAR
VERSION:2.0
PRODID:-//eventon.com NONSGML v1.0//EN
CALSCALE:GREGORIAN
METHOD:PUBLISH
BEGIN:VEVENT
UID:69e83f5d5b6c7
DTSTAMP:20260422T032413Z
DTSTART:20380108T170000Z
DTEND:20380108T225900Z
LOCATION:
SUMMARY:BHV-Neujahrstreffen
DESCRIPTION:\nhttps://wir-alle-sind-refrath.de/events/bhv-neujahrstreffen/v
 ar/ri-11.l-L1
URL:https://wir-alle-sind-refrath.de/events/bhv-neujahrstreffen/var/ri-11.l-L1
END:VEVENT
END:VCALENDAR