BEGIN:VCALENDAR
VERSION:2.0
PRODID:-//eventon.com NONSGML v1.0//EN
CALSCALE:GREGORIAN
METHOD:PUBLISH
BEGIN:VEVENT
UID:69ed77bf8bed2
DTSTAMP:20260426T022607Z
DTSTART:20490912T130000Z
DTEND:20490913T215900Z
LOCATION:
SUMMARY:Königsschießen
DESCRIPTION:\nhttps://wir-alle-sind-refrath.de/events/koenigsschiessen/var/
 ri-49.l-L1
URL:https://wir-alle-sind-refrath.de/events/koenigsschiessen/var/ri-49.l-L1
END:VEVENT
END:VCALENDAR