BEGIN:VCALENDAR
VERSION:2.0
PRODID:-//eventon.com NONSGML v1.0//EN
CALSCALE:GREGORIAN
METHOD:PUBLISH
BEGIN:VEVENT
UID:69ed55e5975dc
DTSTAMP:20260426T000141Z
DTSTART:20480912T130000Z
DTEND:20480913T215900Z
LOCATION:
SUMMARY:Königsschießen
DESCRIPTION:\nhttps://wir-alle-sind-refrath.de/events/koenigsschiessen/var/
 ri-48.l-L1
URL:https://wir-alle-sind-refrath.de/events/koenigsschiessen/var/ri-48.l-L1
END:VEVENT
END:VCALENDAR