BEGIN:VCALENDAR
VERSION:2.0
PRODID:-//eventon.com NONSGML v1.0//EN
CALSCALE:GREGORIAN
METHOD:PUBLISH
BEGIN:VEVENT
UID:69ed3c4d90f4c
DTSTAMP:20260425T221229Z
DTSTART:20480913T130000Z
DTEND:20480914T215900Z
LOCATION:
SUMMARY:Königsschießen
DESCRIPTION:\nhttps://wir-alle-sind-refrath.de/events/koenigsschiessen/var/
 ri-47.l-L1
URL:https://wir-alle-sind-refrath.de/events/koenigsschiessen/var/ri-47.l-L1
END:VEVENT
END:VCALENDAR