BEGIN:VCALENDAR
VERSION:2.0
PRODID:-//eventon.com NONSGML v1.0//EN
CALSCALE:GREGORIAN
METHOD:PUBLISH
BEGIN:VEVENT
UID:69ed1b27a4fc6
DTSTAMP:20260425T195103Z
DTSTART:20470914T130000Z
DTEND:20470915T215900Z
LOCATION:
SUMMARY:Königsschießen
DESCRIPTION:\nhttps://wir-alle-sind-refrath.de/events/koenigsschiessen/var/
 ri-46.l-L1
URL:https://wir-alle-sind-refrath.de/events/koenigsschiessen/var/ri-46.l-L1
END:VEVENT
END:VCALENDAR