BEGIN:VCALENDAR
VERSION:2.0
PRODID:-//eventon.com NONSGML v1.0//EN
CALSCALE:GREGORIAN
METHOD:PUBLISH
BEGIN:VEVENT
UID:69ed010a980b9
DTSTAMP:20260425T175938Z
DTSTART:20470908T130000Z
DTEND:20470909T215900Z
LOCATION:
SUMMARY:Königsschießen
DESCRIPTION:\nhttps://wir-alle-sind-refrath.de/events/koenigsschiessen/var/
 ri-45.l-L1
URL:https://wir-alle-sind-refrath.de/events/koenigsschiessen/var/ri-45.l-L1
END:VEVENT
END:VCALENDAR