BEGIN:VCALENDAR
VERSION:2.0
PRODID:-//eventon.com NONSGML v1.0//EN
CALSCALE:GREGORIAN
METHOD:PUBLISH
BEGIN:VEVENT
UID:69ecea9633e23
DTSTAMP:20260425T162350Z
DTSTART:20460908T130000Z
DTEND:20460909T215900Z
LOCATION:
SUMMARY:Königsschießen
DESCRIPTION:\nhttps://wir-alle-sind-refrath.de/events/koenigsschiessen/var/
 ri-44.l-L1
URL:https://wir-alle-sind-refrath.de/events/koenigsschiessen/var/ri-44.l-L1
END:VEVENT
END:VCALENDAR