BEGIN:VCALENDAR
VERSION:2.0
PRODID:-//eventon.com NONSGML v1.0//EN
CALSCALE:GREGORIAN
METHOD:PUBLISH
BEGIN:VEVENT
UID:69eccc3daee6d
DTSTAMP:20260425T141421Z
DTSTART:20460909T130000Z
DTEND:20460910T215900Z
LOCATION:
SUMMARY:Königsschießen
DESCRIPTION:\nhttps://wir-alle-sind-refrath.de/events/koenigsschiessen/var/
 ri-43.l-L1
URL:https://wir-alle-sind-refrath.de/events/koenigsschiessen/var/ri-43.l-L1
END:VEVENT
END:VCALENDAR