BEGIN:VCALENDAR
VERSION:2.0
PRODID:-//eventon.com NONSGML v1.0//EN
CALSCALE:GREGORIAN
METHOD:PUBLISH
BEGIN:VEVENT
UID:69ecb4fa82b6a
DTSTAMP:20260425T123506Z
DTSTART:20450909T130000Z
DTEND:20450910T215900Z
LOCATION:
SUMMARY:Königsschießen
DESCRIPTION:\nhttps://wir-alle-sind-refrath.de/events/koenigsschiessen/var/
 ri-42.l-L1
URL:https://wir-alle-sind-refrath.de/events/koenigsschiessen/var/ri-42.l-L1
END:VEVENT
END:VCALENDAR