BEGIN:VCALENDAR
VERSION:2.0
PRODID:-//eventon.com NONSGML v1.0//EN
CALSCALE:GREGORIAN
METHOD:PUBLISH
BEGIN:VEVENT
UID:69ebf636bd10a
DTSTAMP:20260424T230110Z
DTSTART:20420914T130000Z
DTEND:20420915T215900Z
LOCATION:
SUMMARY:Königsschießen
DESCRIPTION:\nhttps://wir-alle-sind-refrath.de/events/koenigsschiessen/var/
 ri-35.l-L1
URL:https://wir-alle-sind-refrath.de/events/koenigsschiessen/var/ri-35.l-L1
END:VEVENT
END:VCALENDAR