BEGIN:VCALENDAR
VERSION:2.0
PRODID:-//eventon.com NONSGML v1.0//EN
CALSCALE:GREGORIAN
METHOD:PUBLISH
BEGIN:VEVENT
UID:69ebde84a67a0
DTSTAMP:20260424T212004Z
DTSTART:20410914T130000Z
DTEND:20410915T215900Z
LOCATION:
SUMMARY:Königsschießen
DESCRIPTION:\nhttps://wir-alle-sind-refrath.de/events/koenigsschiessen/var/
 ri-34.l-L1
URL:https://wir-alle-sind-refrath.de/events/koenigsschiessen/var/ri-34.l-L1
END:VEVENT
END:VCALENDAR