BEGIN:VCALENDAR
VERSION:2.0
PRODID:-//eventon.com NONSGML v1.0//EN
CALSCALE:GREGORIAN
METHOD:PUBLISH
BEGIN:VEVENT
UID:69eb8b22a5a9b
DTSTAMP:20260424T152418Z
DTSTART:20400909T130000Z
DTEND:20400910T215900Z
LOCATION:
SUMMARY:Königsschießen
DESCRIPTION:\nhttps://wir-alle-sind-refrath.de/events/koenigsschiessen/var/
 ri-31.l-L1
URL:https://wir-alle-sind-refrath.de/events/koenigsschiessen/var/ri-31.l-L1
END:VEVENT
END:VCALENDAR