BEGIN:VCALENDAR
VERSION:2.0
PRODID:-//eventon.com NONSGML v1.0//EN
CALSCALE:GREGORIAN
METHOD:PUBLISH
BEGIN:VEVENT
UID:69eb6e69d1342
DTSTAMP:20260424T132145Z
DTSTART:20390910T130000Z
DTEND:20390911T215900Z
LOCATION:
SUMMARY:Königsschießen
DESCRIPTION:\nhttps://wir-alle-sind-refrath.de/events/koenigsschiessen/var/
 ri-30.l-L1
URL:https://wir-alle-sind-refrath.de/events/koenigsschiessen/var/ri-30.l-L1
END:VEVENT
END:VCALENDAR