BEGIN:VCALENDAR
VERSION:2.0
PRODID:-//eventon.com NONSGML v1.0//EN
CALSCALE:GREGORIAN
METHOD:PUBLISH
BEGIN:VEVENT
UID:69eb553c4ea56
DTSTAMP:20260424T113420Z
DTSTART:20390911T130000Z
DTEND:20390912T215900Z
LOCATION:
SUMMARY:Königsschießen
DESCRIPTION:\nhttps://wir-alle-sind-refrath.de/events/koenigsschiessen/var/
 ri-29.l-L1
URL:https://wir-alle-sind-refrath.de/events/koenigsschiessen/var/ri-29.l-L1
END:VEVENT
END:VCALENDAR