BEGIN:VCALENDAR
VERSION:2.0
PRODID:-//eventon.com NONSGML v1.0//EN
CALSCALE:GREGORIAN
METHOD:PUBLISH
BEGIN:VEVENT
UID:69eb3ae689011
DTSTAMP:20260424T094158Z
DTSTART:20380911T130000Z
DTEND:20380912T215900Z
LOCATION:
SUMMARY:Königsschießen
DESCRIPTION:\nhttps://wir-alle-sind-refrath.de/events/koenigsschiessen/var/
 ri-28.l-L1
URL:https://wir-alle-sind-refrath.de/events/koenigsschiessen/var/ri-28.l-L1
END:VEVENT
END:VCALENDAR