BEGIN:VCALENDAR
VERSION:2.0
PRODID:-//eventon.com NONSGML v1.0//EN
CALSCALE:GREGORIAN
METHOD:PUBLISH
BEGIN:VEVENT
UID:69eb089e239e4
DTSTAMP:20260424T060726Z
DTSTART:20370912T130000Z
DTEND:20370913T215900Z
LOCATION:
SUMMARY:Königsschießen
DESCRIPTION:\nhttps://wir-alle-sind-refrath.de/events/koenigsschiessen/var/
 ri-26.l-L1
URL:https://wir-alle-sind-refrath.de/events/koenigsschiessen/var/ri-26.l-L1
END:VEVENT
END:VCALENDAR