BEGIN:VCALENDAR
VERSION:2.0
PRODID:-//eventon.com NONSGML v1.0//EN
CALSCALE:GREGORIAN
METHOD:PUBLISH
BEGIN:VEVENT
UID:69eaecfdedfb0
DTSTAMP:20260424T040933Z
DTSTART:20370913T130000Z
DTEND:20370914T215900Z
LOCATION:
SUMMARY:Königsschießen
DESCRIPTION:\nhttps://wir-alle-sind-refrath.de/events/koenigsschiessen/var/
 ri-25.l-L1
URL:https://wir-alle-sind-refrath.de/events/koenigsschiessen/var/ri-25.l-L1
END:VEVENT
END:VCALENDAR