BEGIN:VCALENDAR
VERSION:2.0
PRODID:-//eventon.com NONSGML v1.0//EN
CALSCALE:GREGORIAN
METHOD:PUBLISH
BEGIN:VEVENT
UID:69eabc7dd6b74
DTSTAMP:20260424T004237Z
DTSTART:20360914T130000Z
DTEND:20360915T215900Z
LOCATION:
SUMMARY:Königsschießen
DESCRIPTION:\nhttps://wir-alle-sind-refrath.de/events/koenigsschiessen/var/
 ri-23.l-L1
URL:https://wir-alle-sind-refrath.de/events/koenigsschiessen/var/ri-23.l-L1
END:VEVENT
END:VCALENDAR