BEGIN:VCALENDAR
VERSION:2.0
PRODID:-//eventon.com NONSGML v1.0//EN
CALSCALE:GREGORIAN
METHOD:PUBLISH
BEGIN:VEVENT
UID:69ea6920040d1
DTSTAMP:20260423T184656Z
DTSTART:20350908T130000Z
DTEND:20350909T215900Z
LOCATION:
SUMMARY:Königsschießen
DESCRIPTION:\nhttps://wir-alle-sind-refrath.de/events/koenigsschiessen/var/
 ri-22.l-L1
URL:https://wir-alle-sind-refrath.de/events/koenigsschiessen/var/ri-22.l-L1
END:VEVENT
END:VCALENDAR