BEGIN:VCALENDAR
VERSION:2.0
PRODID:-//eventon.com NONSGML v1.0//EN
CALSCALE:GREGORIAN
METHOD:PUBLISH
BEGIN:VEVENT
UID:69e9c89823a3b
DTSTAMP:20260423T072200Z
DTSTART:20340909T130000Z
DTEND:20340910T215900Z
LOCATION:
SUMMARY:Königsschießen
DESCRIPTION:\nhttps://wir-alle-sind-refrath.de/events/koenigsschiessen/var/
 ri-20.l-L1
URL:https://wir-alle-sind-refrath.de/events/koenigsschiessen/var/ri-20.l-L1
END:VEVENT
END:VCALENDAR