BEGIN:VCALENDAR
VERSION:2.0
PRODID:-//eventon.com NONSGML v1.0//EN
CALSCALE:GREGORIAN
METHOD:PUBLISH
BEGIN:VEVENT
UID:69e97c4b98e0f
DTSTAMP:20260423T015627Z
DTSTART:20340910T130000Z
DTEND:20340911T215900Z
LOCATION:
SUMMARY:Königsschießen
DESCRIPTION:\nhttps://wir-alle-sind-refrath.de/events/koenigsschiessen/var/
 ri-19.l-L1
URL:https://wir-alle-sind-refrath.de/events/koenigsschiessen/var/ri-19.l-L1
END:VEVENT
END:VCALENDAR