BEGIN:VCALENDAR
VERSION:2.0
PRODID:-//eventon.com NONSGML v1.0//EN
CALSCALE:GREGORIAN
METHOD:PUBLISH
BEGIN:VEVENT
UID:69e9344fbe23d
DTSTAMP:20260422T204919Z
DTSTART:20330910T130000Z
DTEND:20330911T215900Z
LOCATION:
SUMMARY:Königsschießen
DESCRIPTION:\nhttps://wir-alle-sind-refrath.de/events/koenigsschiessen/var/
 ri-18.l-L1
URL:https://wir-alle-sind-refrath.de/events/koenigsschiessen/var/ri-18.l-L1
END:VEVENT
END:VCALENDAR