BEGIN:VCALENDAR
VERSION:2.0
PRODID:-//eventon.com NONSGML v1.0//EN
CALSCALE:GREGORIAN
METHOD:PUBLISH
BEGIN:VEVENT
UID:69e8d46de5cb7
DTSTAMP:20260422T140013Z
DTSTART:20330911T130000Z
DTEND:20330912T215900Z
LOCATION:
SUMMARY:Königsschießen
DESCRIPTION:\nhttps://wir-alle-sind-refrath.de/events/koenigsschiessen/var/
 ri-17.l-L1
URL:https://wir-alle-sind-refrath.de/events/koenigsschiessen/var/ri-17.l-L1
END:VEVENT
END:VCALENDAR