BEGIN:VCALENDAR
VERSION:2.0
PRODID:-//eventon.com NONSGML v1.0//EN
CALSCALE:GREGORIAN
METHOD:PUBLISH
BEGIN:VEVENT
UID:69e5bb87effe0
DTSTAMP:20260420T053711Z
DTSTART:20320911T130000Z
DTEND:20320912T215900Z
LOCATION:
SUMMARY:Königsschießen
DESCRIPTION:\nhttps://wir-alle-sind-refrath.de/events/koenigsschiessen/var/
 ri-16.l-L1
URL:https://wir-alle-sind-refrath.de/events/koenigsschiessen/var/ri-16.l-L1
END:VEVENT
END:VCALENDAR