BEGIN:VCALENDAR
VERSION:2.0
PRODID:-//eventon.com NONSGML v1.0//EN
CALSCALE:GREGORIAN
METHOD:PUBLISH
BEGIN:VEVENT
UID:69e56b4b972d7
DTSTAMP:20260419T235451Z
DTSTART:20320912T130000Z
DTEND:20320913T215900Z
LOCATION:
SUMMARY:Königsschießen
DESCRIPTION:\nhttps://wir-alle-sind-refrath.de/events/koenigsschiessen/var/
 ri-15.l-L1
URL:https://wir-alle-sind-refrath.de/events/koenigsschiessen/var/ri-15.l-L1
END:VEVENT
END:VCALENDAR