BEGIN:VCALENDAR
VERSION:2.0
PRODID:-//eventon.com NONSGML v1.0//EN
CALSCALE:GREGORIAN
METHOD:PUBLISH
BEGIN:VEVENT
UID:69e527a56fd0f
DTSTAMP:20260419T190613Z
DTSTART:20310913T130000Z
DTEND:20310914T215900Z
LOCATION:
SUMMARY:Königsschießen
DESCRIPTION:\nhttps://wir-alle-sind-refrath.de/events/koenigsschiessen/var/
 ri-14.l-L1
URL:https://wir-alle-sind-refrath.de/events/koenigsschiessen/var/ri-14.l-L1
END:VEVENT
END:VCALENDAR