BEGIN:VCALENDAR
VERSION:2.0
PRODID:-//eventon.com NONSGML v1.0//EN
CALSCALE:GREGORIAN
METHOD:PUBLISH
BEGIN:VEVENT
UID:69e4ee08572f4
DTSTAMP:20260419T150024Z
DTSTART:20310914T130000Z
DTEND:20310915T215900Z
LOCATION:
SUMMARY:Königsschießen
DESCRIPTION:\nhttps://wir-alle-sind-refrath.de/events/koenigsschiessen/var/
 ri-13.l-L1
URL:https://wir-alle-sind-refrath.de/events/koenigsschiessen/var/ri-13.l-L1
END:VEVENT
END:VCALENDAR