BEGIN:VCALENDAR
VERSION:2.0
PRODID:-//eventon.com NONSGML v1.0//EN
CALSCALE:GREGORIAN
METHOD:PUBLISH
BEGIN:VEVENT
UID:69e7a8ed22eba
DTSTAMP:20260421T164221Z
DTSTART:20300914T130000Z
DTEND:20300915T215900Z
LOCATION:
SUMMARY:Königsschießen
DESCRIPTION:\nhttps://wir-alle-sind-refrath.de/events/koenigsschiessen/var/
 ri-12.l-L1
URL:https://wir-alle-sind-refrath.de/events/koenigsschiessen/var/ri-12.l-L1
END:VEVENT
END:VCALENDAR